BEGIN:VCALENDAR
VERSION:2.0
PRODID:icalendar-ruby
CALSCALE:GREGORIAN
BEGIN:VEVENT
DTSTAMP:20260426T034917Z
UID:ac44a204-de79-4cec-874f-6399359a2881
DTSTART:20260808T070000
DTEND:20260808T140000
DESCRIPTION:Flohmarkt in 82380 Peißenberg am Festplatz Moosleite für Jede
 rmann.\nFolgt auf Instagram : www.instagram.com/flohmarkt_pfaffenwinkel\nE
 in Flohmarkterlebniss für Käufer und Verkäufer.\nAuf dem idyllischen Fe
 stplatz kann über den gemütlichen Markt gebummelt und nach Wertvollem ge
 stöbert werden.\nFür Besucher :\nKein Eintritt * Verkauf von 7 -14 Uhr *
  Imbiss * Toiletten\nFür Aussteller:\nAuto am Stand * Einfahrt / Aufbau a
 b 6 Uhr\nAbbau frühestens ab 14 Uhr\nFreigelände:\nStandpreis bis 120cm 
 Tiefe :\nJeder angefangene lfm 8€.\nStandpreis ab 120cm Tiefe (z.B. Pavi
 llon) :\nJeder angefangene lfm 10€\nDie Mindeststandgröße beträgt 2 l
 fd. Meter\, unabhängig von einer evtl. kleineren tatsächlichen Standgrö
 ße. Bei Fahrzeugen mit Anhänger / Transporter oder Wohnmobilen wird die 
 Fahrzeuglänge als Standlänge berechnet\, mindest jedoch 4 Meter.\nKautio
 n :Beim kassieren der Standgebühr werden 10 € Kaution fällig.Wenn vor 
 Ende des Marktes abgebaut wird\, behalten wir die Kaution ein.\nMax. 2 Stu
 nden nach Ende des Marktes ist der Platz sauber zu verlassen.\nEs gelten f
 ür Aussteller die auf der Homepage angegebene Marktordnung.\nMit befahren
  des Geländes werden diese anerkannt.\nTermin unter Vorbehalt. Bitte Kurz
 fristig auf der Homepage oder frühestens 2 Wochen vorher über das Eventt
 elefon 08803 / 490 32 74 Informieren .
LOCATION:Moosleite Moosleite 1A 82380 
SUMMARY:Flohmarkt in Peißenberg für Jedermann
END:VEVENT
END:VCALENDAR
