BEGIN:VCALENDAR
VERSION:2.0
PRODID:icalendar-ruby
CALSCALE:GREGORIAN
BEGIN:VEVENT
DTSTAMP:20260425T000201Z
UID:18a88602-3c7f-4688-afc5-3e956514e24b
DTSTART:20260426T070000
DTEND:20260426T140000
DESCRIPTION:2 Tages-Flohmarkt in 87616 Marktoberdorf am MODEON für Jederma
 nn.\nFolgt auf Instagram : www.instagram.com/flohmarkt_pfaffenwinkel\nEin 
 Flohmarkterlebniss für Käufer und Verkäufer.\nAuf dem idyllischen Festp
 latz kann über den gemütlichen Markt gebummelt und nach Wertvollem gest
 öbert werden.\nFür Besucher :\nVerkauf von 7 -14 Uhr\nImbiss\nWC\nFür A
 ussteller:\nKeine Neuware erlaubt\nKeine Anmeldung nötig\nAuto am Stand\n
 WC * Imbiss\nEinfahrt-Aufbau ab 6 Uhr\nAbbau frühestens ab 14 Uhr\nStänd
 e/Anhänger können gegebenfalls von Samstag auf Sonntag stehen bleiben.\n
 Auf dem Gelände ist KEINE Übernachtung möglich !!\nStandpreis bis 120cm
  Tiefe :\nJeder angefangene lfm 8€\nab 120cm Tiefe lfm10€\nDie Mindest
 standgröße beträgt 2 lfd. Meter\, unabhängig von einer evtl. kleineren
  tatsächlichen Standgröße. Bei Fahrzeugen mit Anhänger / Transporter o
 der Wohnmobilen wird die Fahrzeuglänge als Standlänge berechnet\, mindes
 t jedoch 4 Meter.\nKaution :Beim kassieren der Standgebühr werden 10 € 
 Kaution fällig. Wenn vor Ende des Marktes abgebaut wird\, behalten wir di
 e Kaution ein.\nMax. 2 Stunden nach Veranstaltungsende ist der Platz saube
 r zu verlassen.\nEs gilt die auf der Homepage angegebene Marktordnung und 
 Preisliste.\nMit befahren des Geländes werden diese anerkannt.\nBitte Kur
 zfristig auf der Homepage:\nwww.flohmarkt-pfaffenwinkel.de.tl\noder frühe
 stens 2 Wochen vorher über das Eventtelefon 08803 / 490 32 74 Informieren
  .
LOCATION:Schwabenstraße 53 87616 
SUMMARY:2 Tages Flohmarkt in Marktoberdorf am MODEON für Jedermann
END:VEVENT
END:VCALENDAR
