BEGIN:VCALENDAR
VERSION:2.0
PRODID:icalendar-ruby
CALSCALE:GREGORIAN
BEGIN:VEVENT
DTSTAMP:20260421T135708Z
UID:82a0f44e-b82d-4089-847d-ae70f57db53f
DTSTART:20260501T150000
DTEND:20260501T000000
DESCRIPTION:30. April- 02. Mai 2026\, Hamm – Santa-Monica-Platz Vom 30. 
 April bis zum 02. Mai 2026 findet die Hammer Bierbörse nun schon zum 12te
 n mal statt. Für ganze drei Tage verwandelt sich der großzügige Santa-M
 onica-Platz in der Innenstatt in den größten Biergarten Hamms.  Mehrere
  hundert verschiedene Biersorten warten darauf\, entdeckt zu werden. Die B
 esucher können an rund 30 Bier- und Speiseständen besondere Spezialität
 en verkosten und in gemütlicher Atmosphäre in den Biergärten zu verweil
 en. Der Eintritt zur gesamten Fläche ist kostenfrei! Adresse:Santa-Moni
 ca-PlatzKönigsstraße 59065 Hamm\nÖffnungszeiten:Donnerstag:    15.00
  - 24.00 UhrFreitag:           15.00 - 24.00 UhrSamstag:     
    15.00 - 24.00 Uhr\nEventcatzen GmbHCarina SchmidtLoestr. 1245768 Marl
  Ansprechpartnerin: Carina Schmidt  Tel.: +49 176 634 / 602 93E-Mail: ca
 rina.schmidt@eventcatzen.de\nhttps://www.bierboerse.com
LOCATION:Königstraße  59065 
SUMMARY:12. Hammer Bierbörse
END:VEVENT
END:VCALENDAR
