BEGIN:VCALENDAR
VERSION:2.0
PRODID:icalendar-ruby
CALSCALE:GREGORIAN
BEGIN:VEVENT
DTSTAMP:20260424T185756Z
UID:7e5520b6-8f47-4e1f-b537-e9341fe00187
DTSTART:20260509T170000
DTEND:20260509T210000
DESCRIPTION:"Mädels lieben Klamotten"Ganz unter diesem Motto findet ihr au
 f unserem Mädchenflohmarkt:Vintage Schätze\, Second Hand Klamotten\, Kin
 derbekleidung- und ausstattung\, Designerware\, Schuhe\, Schmuck und Acces
 soires.Ob alt\, ausrangiert\, geliebt\, zu klein\, zu groß\, bei uns find
 et jede Klamotte ein neues Zuhause.Wir bieten euch all das\, was das Mädc
 hen Herz begehrt.\nInfos zu Eintritts-/ sowie Ausstellerpreisen und das 
 Anmeldeformular findet Ihr unter www.maedchenklamotte.de ❤
LOCATION:Messeplatz 1 45131 Stadtbezirke II
SUMMARY:Mädchen Klamotte - Der Mädelsflohmarkt @Gruga Halle Essen *LATE N
 IGHT*
END:VEVENT
END:VCALENDAR
