BEGIN:VCALENDAR
VERSION:2.0
PRODID:icalendar-ruby
CALSCALE:GREGORIAN
BEGIN:VEVENT
DTSTAMP:20260420T104611Z
UID:82f606d8-6175-4b5f-a960-98ad0caae928
DTSTART:20260912T080000
DTEND:20260912T140000
DESCRIPTION:Am 12.09.2026 ist es soweit! Der 4. "Föschber" Flohmarkt finde
 t statt! \nWann? 12.09.2026 von 8 bis 14Uhr\nWo? Konrad-Adenauer-Straße 
 15\, 57572 Niederfischbach ( vor der Turnhalle Fischbacherhütte ) \nWo k
 ann ich parken? Auf der Industriestraße\, auf dem Penny/Netto und Wanderp
 arkplatz \nFürs leibliche Wohl steht der "Tom's" Imbiss zur Verfügung!
  \nKommt vorbei.... \n \nAnmelden kann man sich für "normale" Flohmark
 t-Stände! \nPlatzreservierung: \nPer Mail mit...\n...Name\n...Meteranga
 be \n...Telefon-Nummer \nDas muss beachtet werden:\n• Keine Neuware!\n
 • Keine Megafone oder Musikboxen \n• Kein Auto am Stand \n• 5€/ 
 Meter \n \nReserviert euch noch heute euren Stand \nE-Mail Adresse: woc
 henschaunifi2024@gmail.com\nWhatsapp: +4915172044945
LOCATION:Konrad-Adenauer-Straße 15 57572 Fischbacherhütte
SUMMARY:Niederfischbacher Flohmarkt 
END:VEVENT
END:VCALENDAR
