BEGIN:VCALENDAR
VERSION:2.0
PRODID:icalendar-ruby
CALSCALE:GREGORIAN
BEGIN:VEVENT
DTSTAMP:20260421T090202Z
UID:b2a19ebe-0cc3-4ebd-9b50-38e016964ae1
DTSTART:20260508T150000
DTEND:20260508T000000
DESCRIPTION:Vom 08. bis 10. Mai 2026 verwandelt sich die Rheinanlage in And
 ernach für drei Tage in den größten Biergarten Andernachs. Die 4. Ander
 nacher Bierbörse bietet ein breites Spektrum an Bierspezialitäten aus al
 ler Welt.Rund 30 Bier- Imbissständen laden die Besucher zu einer Entdecku
 ngsreise durch die vielfältige Welt des Bieres ein. Von heimlichen Klassi
 kern bis zu internationalen Spezialitäten – hier findet jeder das passe
 nde Getränk in den liebevoll gestalteten Biergärten kann man in Ruhe die
  verschiedenen Biere genießen – ob im Schatten der Bäume oder mit Blic
 k auf den Rhein. Der Eintritt zur gesamten Fläche ist kostenfrei! Adres
 se:Rheinanlagen56626 Andernach Öffnungszeiten Freitag:         
   15.00 - 23.00 UhrSamstag:        15.00 - 23.00 UhrSonntag:    
      13.00 - 20.00 Uhr https://www.bierboerse.com
LOCATION:Konrad-Adenauer-Allee  56626 
SUMMARY:4. Andernacher Bierbörse 
END:VEVENT
END:VCALENDAR
