BEGIN:VCALENDAR
VERSION:2.0
PRODID:icalendar-ruby
CALSCALE:GREGORIAN
BEGIN:VEVENT
DTSTAMP:20260421T125333Z
UID:7fe9e0b5-9f5c-45c7-8457-0b65d2fa22fb
DTSTART:20260821T150000
DTEND:20260821T000000
DESCRIPTION:Vom 21. Bis zum 23. August 2026 wird die Benrather Fußgängerz
 one wieder zum Treffpunkt für alle\, die gutes Bier lieben - denn dann fi
 ndet die 32. Auflage der Benrather Bierbörse statt und bietet drei Tage v
 oller Biervielfalt\, Geschmack und Geselligkeit. Seit nunmehr 31 Jahren is
 t die Bierbörse in Düsseldorf-Benrath beheimatet und ist nach der Oplade
 ner Bierbörse die zweitälteste Veranstaltung dieser Art in Deutschland. 
 In der schönen Fußgängerzone und rund um die Heubesstraße erwarten die
  Besucher etwa 40 Bier- und Imbissständen\, die über hunderte Biersorten
  aus aller Welt im Gepäck haben. Klassiker\, Neuheiten und außergewöhnl
 iche Spezialitäten stehen zum Probieren\, Anstoßen oder auch zum Mitnehm
 en als Flaschenbier bereit. Der Eintritt zur gesamten Fläche ist kostenfr
 ei! Adresse:Hauptstraße\, Heubesstraße und Fußgängerzone40597 Düssel
 dorf-Benrath Öffnungszeiten:Freitag:           15.00 - 23.00 U
 hrSamstag:        15.00 - 23.00 UhrSonntag:         11.00 - 2
 0.00 Uhr https://www.bierboerse.com
LOCATION:Hauptstraße  40597 Stadtbezirk 9
SUMMARY:33. Benrather Bierbörse 
END:VEVENT
END:VCALENDAR
