BEGIN:VCALENDAR
VERSION:2.0
PRODID:icalendar-ruby
CALSCALE:GREGORIAN
BEGIN:VEVENT
DTSTAMP:20260423T163337Z
UID:b876c614-3b67-4ccf-8d86-89250b7ea9b0
DTSTART:20260724T150000
DTEND:20260724T000000
DESCRIPTION:Bierliebhaber aufgepasst: Vom 24. bis zum 26. Juli 2026 verwand
 elt sich die wunderschöne Bonner Rheinaue in Bad Godesberg erneut in ein 
 Paradies für Bierliebhaber. Wer im Sommer auf ein Glas mit guter Stimmung
  nicht verzichten mag\, ist hier genau richtig!Rund 50 Brauereien und Spei
 segeschäfte aus dem In- und Ausland präsentieren traditionelle Klassiker
  sowie ausgefallenen internationalen Spezialitäten. Ob bayerisches Helles
 \, portugiesisches Lager oder kroatische Rarität – hier ist für jeden 
 Geschmack etwas dabei. Inmitten der grünen Rheinaue lässt sich entspannt
  probieren\, plaudern und anstoßen. Der Eintritt zur gesamten Fläche is
 t kostenfrei! Adresse:Freizeitpark RheinaueLudwig-Erhard-Allee\, 53175 Bo
 nn Öffnungszeiten:Freitag:           15.00 - 24.00 UhrSamstag:
         15.00 - 24.00 UhrSonntag:         13.00 - 20.00 Uhr 
 https://www.bierboerse.com
LOCATION:Ludwig-Erhard-Allee  53175 Bad Godesberg
SUMMARY:29. Bonner Bierbörse 
END:VEVENT
END:VCALENDAR
