BEGIN:VCALENDAR
VERSION:2.0
PRODID:icalendar-ruby
CALSCALE:GREGORIAN
BEGIN:VEVENT
DTSTAMP:20260425T014754Z
UID:83f46258-fa35-460b-a292-76b6bd3512ad
DTSTART:20260809T150000
DTEND:20260809T000000
DESCRIPTION:Vom 07. bis zum 09. August 2026 lädt die 26. Kölner Bierbörs
 e zum Genießen und Entdecken auf die beliebte Rheinpromenaden ein – nur
  wenige Schritte von der Altstadt entfernt.  Rund 40 Bier- und Speisestä
 nde präsentieren zwischen der Hohenzollernbrücke und der Bastei ihre lie
 bevollen Biergärten und damit auch über hundert verschiedene Bierspezial
 itäten. Von bayerischen Klassikern bis hin zu exotischen Bieren aus Brasi
 lien und Spanischen Urlaubsbier ist alles dabei. Wer sein Lieblingsbier ge
 funden hat\, kann es in den gemütlichen Biergärten genießen oder als Fl
 aschenbier mit nach Hause nehmen. Der Eintritt zur gesamten Fläche ist k
 ostenfrei! Adresse:Rheinpromenade\, Konrad-Adenauer-Ufer50668 Köln-Innen
 stadt Öffnungszeiten:Freitag:           15.00 - 24.00 UhrSamst
 ag:        15.00 - 24.00 UhrSonntag:         13.00 - 20.00 Uh
 r https://www.bierboerse.com
LOCATION:Konrad-Adenauer-Ufer  50 
SUMMARY:26. Kölner Bierbörse 
END:VEVENT
END:VCALENDAR
