BEGIN:VCALENDAR
VERSION:2.0
PRODID:icalendar-ruby
CALSCALE:GREGORIAN
BEGIN:VEVENT
DTSTAMP:20260420T052725Z
UID:38d1f801-2652-4beb-af35-c1fb96156479
DTSTART:20260711T150000
DTEND:20260711T000000
DESCRIPTION:Vom 10. bis zum 13. Juli 2026 verwandelt sich das idyllische Wi
 esengelände entlang der Wupper in Leverkusen-Opladen erneut zum Treffpunk
 t für Bierfreunde aus nah und fern. Bei der 39. Opladener Bierbörse steh
 en vier Tage Biervielfalt\, Genuss und entspanntes Zusammensein im Mittelp
 unkt. Mit rund 80 Bier- und Imbissständen ist die Opladener Bierbörse ni
 cht nur die älteste\, sondern auch eine der größten Veranstaltungen ihr
 er Art in Deutschland. Von klassischen nationalen Bieren bis hin zu exotis
 chen Spezialitäten aus aller Welt.Begleitet wird das Ganze von einem abwe
 chslungsreichen Bühnenprogramm\, das für die passende Stimmung sorgt. Ob
  langjährige Fans oder Neugierige\, die Opladener Bierbörse lockt Jahr f
 ür Jahr ein bunt gemischtes Publikum an. Der Eintritt zur gesamten Fläc
 he ist kostenfrei! Adresse:An der Schusterinsel 51379 Leverkusen-Opladen
  Öffnungszeiten:Freitag und Samstag: 15.00 - 24.00 UhrSonntag und Montag
 : 15.00 - 23.00 Uhr  https://www.bierboerse.com 
LOCATION:An der Schusterinsel  51379 Opladen
SUMMARY:39. Opladener Bierbörse 
END:VEVENT
END:VCALENDAR
