BEGIN:VCALENDAR
VERSION:2.0
PRODID:icalendar-ruby
CALSCALE:GREGORIAN
BEGIN:VEVENT
DTSTAMP:20260424T203835Z
UID:3c052de6-970b-4518-ac75-39012aa32afe
DTSTART:20260530T100000
DTEND:20260530T180000
DESCRIPTION:Wenn der Frühling Einzug hält und die Lust am Gärtnern erwac
 ht\, ist es Zeit für die Schloss Partie Garten Leben auf Schloss Moyland 
 vom 29. bis 31. Mai 2026.Mehr als 120 Aussteller präsentieren bei diesem 
 Garten- und Livestyle-Event alles\, was das Leben im Grünen verschönert:
  von Pflanzenraritäten über stilvolle Gartenmöbel\, Dekoration und Kuns
 t bis hin zu handverlesenem Design\, Schmuck\, Mode und feinen Delikatesse
 n.Das Kräutergartenfest (mit über 300 Kräutern) und der Skulpturengarte
 n von Schloss Moyland bilden das Herzstück des Rahmenprogramms – beglei
 tet von besonderen Highlights wie Live Musik\, Walking Acts und Chapeau D'
 oro\, die Hutkünstlerin. Kulinarische Genüsse runden das Erlebnis ab.Gar
 ten Leben auf Schloss Moyland – ein inspirierendes Fest für alle\, die 
 den Frühling mit allen Sinnen begrüßen möchten.Weitere Informationen u
 nter: www.schloss-partie.deÖffnungszeiten:29.05.2026: 13.00 Uhr bis 18.0
 0 Uhr30.05.2026: 10.00 Uhr bis 18.00 Uhr31.05.2026: 10.00 Uhr bis 18.00 Uh
 rKostenfreie Parkplätze am Gelände und Depot-Service für Ihre Einkäufe
 .Eintritt:- Erwachsene: 12 € (gilt für alle 3 Tage)- Familienkarte am F
 reitag\, 2 Erwachsene + mind. 1 Kind: 18 Euro(nur an der Tageskasse erhäl
 tlich)- Kinder bis 16 Jahren haben freien Eintritt.Der Eintritt gilt nach 
 Erwerb eines Tickets für alle drei Veranstaltungstage. Sie erhalten bei I
 nteresse ein Wiedereinlassbändchen an am Eingang.Eintrittskarten können 
 vor Ort an der Tageskasse oder vorab über die Homepage erworben werden.
LOCATION:Moyländer Allee Moyländer Straße  47551 Till-Moyland
SUMMARY:Frühlingspartie Garten Leben\, Schloss Moyland Bedburg-Hau
END:VEVENT
END:VCALENDAR
