BEGIN:VCALENDAR
VERSION:2.0
PRODID:icalendar-ruby
CALSCALE:GREGORIAN
BEGIN:VEVENT
DTSTAMP:20260425T032649Z
UID:ca7a6343-97a9-4bfd-88fd-e367f1273a3a
DTSTART:20261218T140000
DTEND:20261218T200000
DESCRIPTION:Am vierten Adventswochenende\, vom 18. bis zum 20. Dezember 202
 6\, öffnet das Barockschloss Ahaus erstmals seine Tore für die Winterpar
 tie Schlossweihnacht – ein besonderes Ereignis\, das die Magie der Vorwe
 ihnachtszeit in einem einzigartigen Ambiente erlebbar macht.Rund 100 sorgf
 ältig ausgewählte Aussteller präsentieren liebevoll gestaltete Produkte
 . Ob stimmungsvolle Weihnachtsdekoration\, edle Wohn- und Textilwaren\, ju
 nges Design\, hochwertiges Kunsthandwerk\, feiner Schmuck oder delikate K
 östlichkeiten.Freuen Sie sich auf ein abwechslungsreiches Rahmenprogramm.
  Eine kostenlose Eislaufbahn direkt vor dem Schloss sorgt für leuchtende 
 Augen bei großen und kleinen Gästen. Kulinarisch verwöhnt die Schlosswe
 ihnacht mit einer erlesenen Auswahl an winterlichen Spezialitäten.Die neu
 e Winterpartie Schlossweihnacht in Ahaus – ein zauberhaftes Erlebnis fü
 r die ganze Familie.Öffnungszeiten:18. Dezember 2026: 14 bis 20 Uhr19. De
 zember 2026: 11 bis 20 Uhr20. Dezember 2026: 11 bis 20 UhrInformationen zu
  den Parkmöglichkeiten finden Sie auf unserer Homepage.Eintritt:- Erwachs
 ene: 10 €- Ermäßigt: 8 Euro- Kinder bis 16 Jahren haben freien Eintrit
 t.\nEintrittskarten können vor Ort an der Tageskasse oder vorab über die
  Homepage erworben werden.
LOCATION:Schloßstraße  48683 
SUMMARY:Weihnachtsmarkt Schlosszauber\, Schloss Ahaus
END:VEVENT
END:VCALENDAR
