BEGIN:VCALENDAR
VERSION:2.0
PRODID:icalendar-ruby
CALSCALE:GREGORIAN
BEGIN:VEVENT
DTSTAMP:20260421T225639Z
UID:12809dd2-fdfe-4d7e-b61e-aa8a92ba49ad
DTSTART:20260913T060000
DTEND:20260913T150000
DESCRIPTION:Neue Fläche in Itzehoe ab 2026Info &amp\; Voranmeldung ausschl
 ießlich auf unserer Webseite www.HMF24.eu/itzehoe-edeka
LOCATION:Langer Peter 27C 25524 
SUMMARY:Flohmarkt in Itzehoe (EDEKA)
END:VEVENT
END:VCALENDAR
