BEGIN:VCALENDAR
VERSION:2.0
PRODID:icalendar-ruby
CALSCALE:GREGORIAN
BEGIN:VEVENT
DTSTAMP:20260421T211553Z
UID:aa907832-45a3-4919-8fd5-02c13fadf30b
DTSTART:20261011T060000
DTEND:20261011T150000
DESCRIPTION:Neue Fläche in Itzehoe ab 2026Info &amp\; Voranmeldung ausschl
 ießlich auf unserer Webseite www.HMF24.eu/itzehoe-edeka
LOCATION:Langer Peter 27C 25524 
SUMMARY:Flohmarkt in Itzehoe (EDEKA)
END:VEVENT
END:VCALENDAR
