BEGIN:VCALENDAR
VERSION:2.0
PRODID:icalendar-ruby
CALSCALE:GREGORIAN
BEGIN:VEVENT
DTSTAMP:20260420T184408Z
UID:080cad6f-0ab7-4fa8-b457-7aa53e021bb7
DTSTART:20260620T090000
DTEND:20260620T150000
DESCRIPTION:JEDEN SamstagGroßer FLOHMARKT !!!Der Samstags-FLOHMARKT in der
  Region !!!von März bis einschl. NovemberJEDEN Samstag (außer an gesetzl
 ichen Feiertagen)\nDÜRR-ParkplatzFritz-Lieken-StraßeLaiern IV74321 Bieti
 gheim-Biss.von 9 bis 15 Uhr\, Platzvergabe ab 7 Uhr.Es kann jeder mitmache
 n.Besucherparkplätze ausreichend vorhanden !\nTeilnahme mit Anmeldung und
  auch ohne Anmeldung möglich.Ohne Anmeldung so lange wie Platz ausreicht.
 \nJe Meter Gebrauchtware = Euro 8\,-3-Meter-Pauschale Gebrauchtware = Euro
  20\,-Jeder weitere Meter Gebrauchtware über 3 Meter = Euro 7\,-Jedes 5. 
 Mal ab der 3-Meter-Pauschale Gebrauchtware ist frei\,nur auf dem Flohmarkt
  beim DÜRR in Bietigheim-Biss.Neuware auf Anfrage. Je Meter Neuware = Eur
 o 10\,-\nAb 3 Meter kann ein normaler PKW hinter den Stand\,Busse / Transp
 orter ab 4 Meter je nach Länge.Ein Zusammenschluss von mehreren Ständen 
 ist nicht erlaubt.Es wird immer einzeln abgerechnet.\nAlle weiteren Infos 
 über unsere Webseite: www.timke.com
LOCATION:Fritz-Lieken-Straße 8 74321 Bissingen
SUMMARY:Großer Samstags-FLOHMARKT JEDEN Samstag auf dem DÜRR-Parkplatz in
  Bietigheim-Biss.
END:VEVENT
END:VCALENDAR
