BEGIN:VCALENDAR
VERSION:2.0
PRODID:icalendar-ruby
CALSCALE:GREGORIAN
BEGIN:VEVENT
DTSTAMP:20260425T032934Z
UID:71475cc6-2a75-443c-aa33-24e873c7fc58
DTSTART:20260613T080000
DTEND:20260613T160000
DESCRIPTION: \nACHTUNG ACHTUNG ACHTUNG!!!!\nLiebe Flohmarktfreunde\,\nwir 
 freuen uns sehr\, euch mitteilen zu dürfen\, dass ab dem Jahr 2026 unser 
 Flohmarkt\nwieder regelmäßig stattfindet. \n \nStandgebühr: NUR 5 EUR
  PRO METER\n \n \nOB TRÖDEL\, KLEIDUNG\, SPIELZEUG\, DEKO\, WERKZEUGE O
 DER SAMMLERSTÜCKE-\nALLES IST WILLKOMMEN!!\nKOMMT VORBEI\, MACHT MIT\, HA
 NDELT\, STÖBERT UND GENIEßT EINEN TOLLEN\nMARKTTAG AUF DEM MESSEGELÄNDE
 !!\n \n 
LOCATION:Main-Kinzig-Straße  63607 
SUMMARY:WÄCHTERSBACH MESSEGELÄNDE DURUS FLOHMARKT 
END:VEVENT
END:VCALENDAR
