BEGIN:VCALENDAR
VERSION:2.0
PRODID:icalendar-ruby
CALSCALE:GREGORIAN
BEGIN:VEVENT
DTSTAMP:20260420T123713Z
UID:fcc46d8f-7250-48ac-8b42-3204ed0a5d7a
DTSTART:20261025T120000
DTEND:20261025T180000
DESCRIPTION:Flohmarkt auf der Veranstaltungswiese bei Möbel Höffner! Nur 
 wenige hundert Meter von der Autobahnausfahrt Brühl entfernt.\nTeilnahme 
 ohne Anmeldung\, also einfach kommen.\nStandgebühr: € 9\,00/ lfdm. Stan
 dlänge\, Kleiderständer 3 Euro\, ab 3m Standlänge ist 1 Kleiderständer
  inclusive.\nWir sind bekannt für überdurchschnittlich gute Werbung durc
 h:\n\nPlakatierung in der Stadt der Veranstaltung und umliegenden Orten.\n
 Zeitungsinserate in mehreren Tages- und Wochenzeitungen\nWerbung auf zahlr
 eichen Internet- Veranstaltungskalendern\nWerbung über unseren Broadcast\
 nVerteilung von ca. 50.000 Veranstaltungsflyern/ Jahr auf unseren Flohmär
 kten\n....\n\nAußerdem sind unsere Flohmärkte am Veranstaltungstag durch
  zahlreiche "Heute Flohmarkt"- Wegweiser ausgeschildert\, sodass jeder pro
 blemlos den Flohmarkt findet.\nProfitieren Sie als Aussteller auch von uns
 erem Bonuskartensystem: Bei Teilnahme an 10 unserer Flohmärkte geht die S
 tandgebühr (in vergleichbarer Größe) auf uns!\nToiletten sind vorhanden
 .\n 
LOCATION:Zündholzstraße 2 68723 
SUMMARY:Schwetzingen: Möbel Höffner\, Veranstaltungswiese (Räbiger)
END:VEVENT
END:VCALENDAR
