BEGIN:VCALENDAR
VERSION:2.0
PRODID:icalendar-ruby
CALSCALE:GREGORIAN
BEGIN:VEVENT
DTSTAMP:20260420T165354Z
UID:5f5c7172-346d-4221-a059-23fbabce0e41
DTSTART:20260503T110000
DTEND:20260503T180000
DESCRIPTION:Neustart im Jahr 2026\nWir beginnen im Jahr 2026 in Gerolstein 
 an drei Sonntagen mit unserem Trödelmarkt.Auf dem Parkplatz des Edeka Mar
 ktes und anderen Geschäften .Parkplätze sind genug vorhanden.\nEs gibt v
 iel zu sehen und zu stöbern\, etwas zum mit nehmen  .Für Speis und Tran
 k ist gesorgt.\nSollten diese drei Märkte gut angenommen werden wird die 
 Anzahl der Veranstaltungen erhöht.\nZugeteilt werden die Plätze von uns 
 \, Anmeldungen wie gehabt über unser Markt Handy.\n 
LOCATION:Sarresdorfer Straße  54568 
SUMMARY:Trödelmarkt in Gerolstein
END:VEVENT
END:VCALENDAR
