BEGIN:VCALENDAR
VERSION:2.0
PRODID:icalendar-ruby
CALSCALE:GREGORIAN
BEGIN:VEVENT
DTSTAMP:20260420T183825Z
UID:e7d44ad4-8f2d-4093-8ad1-af90ba59b14d
DTSTART:20260517T060000
DTEND:20260517T170000
DESCRIPTION:Großer Trödelmarkt bei Poco in Lüdinghausen\nAnmeldung unter
  Tele +49 162 5224047\n \n⬇️⬇️⬇️⬇️⬇️⬇️⬇️
 ⬇️⬇️⬇️⬇️⬇️⬇️⬇️⬇️⬇️⬇️⬇️\nWir su
 chen einen Reibekuchen Händler Imbiss essens Stand  und ein mit Textilie
 n und  handyzubehör und noch vieles mehr\n⬆️⬆️⬆️⬆️⬆️
 ⬆️⬆️⬆️⬆️⬆️⬆️⬆️⬆️⬆️⬆️⬆️⬆️
 ⬆️\n Wer Samstag kommt Zahlt auf den gesamten Betrag der angemieteten
  Fläche 5 € weniger als wer Sonntag kommt zahlt für Trödel 10 € der
  Meter plus 5 € Grundgebühr Neuware 14 € plus 5 € Grundgebühr \nF
 reuen Sie sich auf den großen neuen Trödelmarkt bei Poco in Lüdinghause
 n! Am 1. März 2026 öffnen wir die Tore zu einem aufregenden Flohmarkt au
 f einer beeindruckenden Fläche von fast 10.000 Quadratmetern. Der neue Ve
 ranstalter hat sich viel vorgenommen und bietet Ihnen super Preise und ein
  abwechslungsreiches Sortiment.\n \nBereits am Samstag\, dem 28. Februar 
 2026\, können Sie zwischen 13 und 15 Uhr Ihren Platz reservieren. Wir emp
 fehlen\, diese Gelegenheit zu nutzen\, da die Platzvergabe schnell vergebe
 n sein kann. Wer sich am Samstag um einen Platz kümmert\, profitiert zude
 m von exklusiven Angeboten\, die es nur an diesem Tag gibt – so sparen S
 ie beim Verkaufen!\n \nAnmeldung unter Tele +49 162 5224047\n \nSeien Si
 e dabei und lassen Sie sich das nicht entgehen! Besuchen Sie uns in der As
 cheberger Str. 30\, 59348 Lüdinghause. Wir freuen uns auf Ihr Kommen!\nUn
 ten ist ein Lageplan die grüne Fläche sind parkplätze die blauen und ro
 ten Flächen sind für die verkaufsstände und Händler
LOCATION:Ascheberger Straße 30 59348 
SUMMARY:Jetzt neu großer trödelmarkt bei Poco lüdinghausen 
END:VEVENT
END:VCALENDAR
