BEGIN:VCALENDAR
VERSION:2.0
PRODID:icalendar-ruby
CALSCALE:GREGORIAN
BEGIN:VEVENT
DTSTAMP:20260419T142227Z
UID:cc7d4bd4-20f6-4fb4-88f1-b5488ef29410
DTSTART:20260419T110000
DTEND:20260419T180000
DESCRIPTION:!! Besuchermagnet !!\n \nSehr beliebter Trödelmarkt in Wesel 
 mit Charme.\nDieser Trödelmarkt erstreckt sich über die gesamte Innensta
 dt und findet nur 2x im Jahr statt.\n \nAnmeldungen unter: info@vogt-sven
 .de \n 
LOCATION:Hohe Straße  46483 
SUMMARY:Frühlingströdelmarkt in Wesel\, Fußgängerzone Gesamte Innenstad
 t
END:VEVENT
END:VCALENDAR
