BEGIN:VCALENDAR
VERSION:2.0
PRODID:icalendar-ruby
CALSCALE:GREGORIAN
BEGIN:VEVENT
DTSTAMP:20260420T025844Z
UID:e17b59b2-4e88-4567-9fbd-f1ef57fd21da
DTSTART:20260509T060000
DTEND:20260509T140000
DESCRIPTION:Flohmarkt 94234Viechtach wenndeplatte am schulzentrum 6uhr bis 
 14uhr veranstalter Martin weinbacher 01722845287
LOCATION:Flurstraße 28b 94234 
SUMMARY:Flohmarkt viechtach Wendeplatte 
END:VEVENT
END:VCALENDAR
