BEGIN:VCALENDAR
VERSION:2.0
PRODID:icalendar-ruby
CALSCALE:GREGORIAN
BEGIN:VEVENT
DTSTAMP:20260426T030506Z
UID:967aee25-05e8-476f-bab0-ba8c774a43ce
DTSTART:20261101T110000
DTEND:20261101T170000
DESCRIPTION:Was erwartet dich?\nIhr sucht Geschenke? Wir haben sie!\nZahlre
 iche kreative Anbieter aus der Region bieten ihr Handwerk zum Verkauf an.\
 nMit dabei: Kreativ &amp\; Hobby\, Kunst &amp\; Design\, Kunsthandwerk\n 
 \nÖffnungszeiten &amp\; Eintritt\nSonntag: 11-17 Uhr\nEintritt: 3 Euro (K
 inder bis 13 J. frei\, keine Ermäßigungen)\n \nAnreise &amp\; Parken\nK
 ostenfreie Besucher-/Ausstellerparkplätze vor der Halle.\n \nCatering\nG
 etränke\, Glühwein\, Grill\, Eintopf\, Kaffee &amp\; Kuchen
LOCATION:Am Schützenplatz 3 02625 
SUMMARY:Kreativmarkt Bautzen
END:VEVENT
END:VCALENDAR
