BEGIN:VCALENDAR
VERSION:2.0
PRODID:icalendar-ruby
CALSCALE:GREGORIAN
BEGIN:VEVENT
DTSTAMP:20260420T094022Z
UID:70316937-ac65-46a2-9b46-295ca7d5af43
DTSTART:20260517T090000
DTEND:20260517T110000
DESCRIPTION:Tauschtag für Briefmarken und Ansichtskarten.\nJeder der möch
 te kiann vorbeikommen\nWenn Sie eine alte Sammllung haben oder wenn Sie wa
 s abgeben möchten können Sie gerne Vorbei kommen und uns die Sammlungen 
 zeigen\,\nWenn Sie sie nicht mehr metnehmen möchten und keiner Sie kaufen
  möchte können Sie uns diese auch Spenden
LOCATION:Rheinstraße 35 56564 
SUMMARY:Tauschtag für Briefmarken
END:VEVENT
END:VCALENDAR
