BEGIN:VCALENDAR
VERSION:2.0
PRODID:icalendar-ruby
CALSCALE:GREGORIAN
BEGIN:VEVENT
DTSTAMP:20260420T094016Z
UID:71cfe2f1-583e-44e1-8c4f-e7a07d5df7a0
DTSTART:20260621T090000
DTEND:20260621T110000
DESCRIPTION:Tauschtag für Briefmarken und Ansichtskarten.\nJeder der möch
 te kiann vorbeikommen\nWenn Sie eine alte Sammllung haben oder wenn Sie wa
 s abgeben möchten können Sie gerne Vorbei kommen und uns die Sammlungen 
 zeigen\,\nWenn Sie sie nicht mehr metnehmen möchten und keiner Sie kaufen
  möchte können Sie uns diese auch Spenden
LOCATION:Rheinstraße 35 56564 
SUMMARY:Tauschtag für Briefmarken
END:VEVENT
END:VCALENDAR
