BEGIN:VCALENDAR
VERSION:2.0
PRODID:icalendar-ruby
CALSCALE:GREGORIAN
BEGIN:VEVENT
DTSTAMP:20260420T093948Z
UID:eeb83b38-3ce2-48ef-ba23-3de964b0986a
DTSTART:20260719T090000
DTEND:20260719T110000
DESCRIPTION:Tauschtag für Briefmarken und Ansichtskarten.\nJeder der möch
 te kiann vorbeikommen\nWenn Sie eine alte Sammllung haben oder wenn Sie wa
 s abgeben möchten können Sie gerne Vorbei kommen und uns die Sammlungen 
 zeigen\,\nWenn Sie sie nicht mehr metnehmen möchten und keiner Sie kaufen
  möchte können Sie uns diese auch Spenden
LOCATION:Rheinstraße 35 56564 
SUMMARY:Tauschtag für Briefmarken
END:VEVENT
END:VCALENDAR
