BEGIN:VCALENDAR
VERSION:2.0
PRODID:icalendar-ruby
CALSCALE:GREGORIAN
BEGIN:VEVENT
DTSTAMP:20260420T093902Z
UID:94828374-3b5d-4368-a02f-8c224aa5215a
DTSTART:20260920T090000
DTEND:20260920T110000
DESCRIPTION:Tauschtag für Briefmarken und Ansichtskarten.\nJeder der möch
 te kiann vorbeikommen\nWenn Sie eine alte Sammllung haben oder wenn Sie wa
 s abgeben möchten können Sie gerne Vorbei kommen und uns die Sammlungen 
 zeigen\,\nWenn Sie sie nicht mehr metnehmen möchten und keiner Sie kaufen
  möchte können Sie uns diese auch Spenden
LOCATION:Rheinstraße 35 56564 
SUMMARY:Tauschtag für Briefmarken
END:VEVENT
END:VCALENDAR
