BEGIN:VCALENDAR
VERSION:2.0
PRODID:icalendar-ruby
CALSCALE:GREGORIAN
BEGIN:VEVENT
DTSTAMP:20260420T075635Z
UID:a89c5c04-af51-4528-a1ae-5281b7d11d67
DTSTART:20261018T090000
DTEND:20261018T110000
DESCRIPTION:Tauschtag für Briefmarken und Ansichtskarten.\nJeder der möch
 te kiann vorbeikommen\nWenn Sie eine alte Sammllung haben oder wenn Sie wa
 s abgeben möchten können Sie gerne Vorbei kommen und uns die Sammlungen 
 zeigen\,\nWenn Sie sie nicht mehr metnehmen möchten und keiner Sie kaufen
  möchte können Sie uns diese auch Spenden
LOCATION:Rheinstraße 35 56564 
SUMMARY:Tauschtag für Briefmarken
END:VEVENT
END:VCALENDAR
