BEGIN:VCALENDAR
VERSION:2.0
PRODID:icalendar-ruby
CALSCALE:GREGORIAN
BEGIN:VEVENT
DTSTAMP:20260420T235750Z
UID:aeb327b1-f21d-43e8-85b9-d950307cb385
DTSTART:20260514T100000
DTEND:20260514T150000
DESCRIPTION:Ob du deine Schränke ausmisten möchtest oder auf der Suche na
 ch neuen Lieblingsstücken bist\, dann ist das deine Adresse.\nAn schön d
 ekorierten Ständen\, mit einem Glas Aperol in der einen und der besten Fr
 eundin in der anderen Hand könnt ihr hier auf Schnäppchenjagd gehen. An 
 über 100 Ständen werdet ihr ganz sicher fündig.\nUnd sollte im Kleiders
 chrank kein Platz für Neues sein\, dürft Ihr Euch natürlich gerne einen
  Verkaufsstand sichern. Schickt hierfür bitte einfach eine Mail an:\n \n
 -----&gt\; info@meinflohmarkt.org\n \nWir freuen uns auf Euren Besuch!\n
  \n-----&gt\; www.facebook.com/MeineFlohmaerkte \n \nVeranstaltungsort:
 \nKongresszentrum - Crowne Plaza Hotel\nBreslauer Straße 3\n41460 Neuss
LOCATION:Breslauer Straße 3 41460 
SUMMARY:Kleiderwechsel - Der Mädelsflohmarkt
END:VEVENT
END:VCALENDAR
