BEGIN:VCALENDAR
VERSION:2.0
PRODID:icalendar-ruby
CALSCALE:GREGORIAN
BEGIN:VEVENT
DTSTAMP:20260421T113244Z
UID:9ff4f478-99e2-4f4b-b818-ed2620e7645f
DTSTART:20260726T080000
DTEND:20260726T160000
DESCRIPTION:Großer Flohmarkt auf dem Gelände vom Vineta \nAuf dem Parkpl
 atz der Diskothek Vineta finden unsere Märkte in 2026 statt.Die Toiletten
  der Diskothek sowie der Innenbereich sind offen.\nDie Standplätze im Inn
 enbereich sind beschränkt.\nGastronomie ist vorhanden.Ausreichend Parkpl
 ätze für Kunden sind vorhanden.\n \nStandgeld\n                
                  Zeltbereich:        5 €/m\n          
                       Tanzflächen:        10€/m 
LOCATION:Thorshammer 10 24866 
SUMMARY:Großer Flohmarkt auf dem Gelände der Diskothek Vineta
END:VEVENT
END:VCALENDAR
