BEGIN:VCALENDAR
VERSION:2.0
PRODID:icalendar-ruby
CALSCALE:GREGORIAN
BEGIN:VEVENT
DTSTAMP:20260422T050032Z
UID:a7d30d12-a695-4d23-a0ad-2533d6cd4f60
DTSTART:20261127T070000
DTEND:20261127T180000
DESCRIPTION:Trödelmarkt für Jedermann NEU\nWIR FREUEN UNS AUF EINEN NEUEN
  MARKT \n\nIM STADT ZENTRUM \nKOMPLETT ÜBERDACHT (PARKHAUS UND GEWERBEF
 LÄCHE)\n2TAGE EINMAL IM MONAT\n\nMacht einfach mit und probiert es aus \,
  wir freuen uns auf euch.\nBei Fragen:\nDIRK : 015205681423\nSANDRA: 01520
 6415978\nwww.troedel-marktunion.de
LOCATION:Augustusburger Straße 2 09111 Zentrum
SUMMARY:SIMMELCENTER CHEMNITZ - Johanniskarree
END:VEVENT
END:VCALENDAR
