BEGIN:VCALENDAR
VERSION:2.0
PRODID:icalendar-ruby
CALSCALE:GREGORIAN
BEGIN:VEVENT
DTSTAMP:20260423T225504Z
UID:9dd44607-15c9-4b0d-b908-a6b2ebae6ce7
DTSTART:20260926T070000
DTEND:20260926T160000
DESCRIPTION:Liebe Flohmarktverkäufer/innen und Flohmarktgäste\,\nWir lade
 n Sie herzlich zu unserem Flohmarkt ein\, der eine Fülle an Schätzen und
  Schnäppchen bereithält! Von Schmuck und Klamotten bis hin zu Haushaltsw
 aren kann man alles Mögliche Kaufen/verkaufen. Parkmöglichkeiten werden
  Ihnen zur Verfügung stehen.\nVerkaufsstand: Bitte beachten Sie\, dass S
 ie für Ihren Verkaufsstand Tische und Kleiderständer selbst mitbringen m
 üssen. Dadurch haben Sie die Möglichkeit\, Ihren Stand ganz nach Ihren W
 ünschen zu gestalten und Ihre Artikel bestmöglich zu präsentieren. Sie
  können vor ihr Auto ihren Stand aufbauen.\n \nPreise für Standplatz:\n
 Normalpreis: 9 Euro pro laufendem Meter\nVorauszahlungsrabatt: 8 Euro pro 
 laufendem Meter (bei Vorauszahlung)\n \nPreise für Kleiderständer:\nNor
 malpreis: 3 Euro pro Stück\nVorauszahlungsrabatt: 2 Euro pro Stück (bei 
 Vorauszahlung)\n \nWichtige Informationen:\nEs ist keine Reservierung erf
 orderlich! Sie können einfach am Flohmarkttag vorbeikommen und Ihren Stan
 d aufbauen.\n \nBitte beachten Sie\, dass die angegebene Verkaufszeit una
 bhängig vom Auf- und Abbau ist. Der Aufbau beginnt samstags um 07:00 Uhr\
 , während der Verkauf von 08:00 Uhr bis 16:00 Uhr stattfindet. Sonntags b
 eginnen Der Aufbau meistens um 10:00 Uhr und der Verkauf von 12:00 Uhr bis
  18:00 Uhr\, Der Abbau erfolgt nach dem Verkaufsende.\n \nWenn sie Voraus
 bezahlen haben sie ein Sicheren und bestimmten Platz auf ihren gewünschte
 n Flohmarkt.\nDie Standplatzvergabe erfolgt nach dem Prinzip "First-Come-F
 irst-Serve"\, daher empfehlen wir Ihnen\, frühzeitig zu erscheinen\, um s
 ich Ihren bevorzugten Platz zu sichern außer man hat voraus reserviert un
 d bezahlt.\n \nDas Reservierungsformular finden Sie online unter www.fma
 -flohmarktagentur.de bei dem jeweiligen Termin. Nach der Benutzung und A
 bschicken des Reservierungsformulars erhalten Sie eine Bestätigungsmail.\
 nWir möchten Sie darauf hinweisen\, dass jede Reservierung\, die bei uns 
 eingegangen und im Voraus bezahlt wurde\, für uns verbindlich ist. Storni
 erungen werden bis spätestens 3 Tage vor Veranstaltungsbeginn entgegengen
 ommen. Sollte es vorkommen\, dass eine Veranstaltung durch den Veranstalt
 er abgesagt wird\, wird die Standgebühr auf jeden Fall zurückgezahlt. \
 n \nWir freuen uns darauf\, Sie auf unserem Flohmarkt begrüßen zu dürf
 en und gemeinsam einen erfolgreichen Tag voller Entdeckungen zu erleben!\
 nFür weitere Informationen oder Fragen können Sie uns gerne kontaktieren
  unter: 015752925606\nHerzliche Grüße\,\nFMA-Flohmarktagentur
LOCATION:Kemptener Straße 87a 87629 
SUMMARY:Flohmarkt in Füssen am Festplatz 
END:VEVENT
END:VCALENDAR
