BEGIN:VCALENDAR
VERSION:2.0
PRODID:icalendar-ruby
CALSCALE:GREGORIAN
BEGIN:VEVENT
DTSTAMP:20260423T204238Z
UID:eeca440a-5935-485d-b535-cf1ac0ad4f8f
DTSTART:20260523T070000
DTEND:20260523T160000
DESCRIPTION:Liebe Flohmarktverkäufer/innen und Flohmarktgäste\,\nWir lade
 n Sie herzlich zu unserem Flohmarkt ein\, der eine Fülle an Schätzen und
  Schnäppchen bereithält! Von Schmuck und Klamotten bis hin zu Haushaltsw
 aren kann man alles Mögliche Kaufen/verkaufen. Parkmöglichkeiten werden
  Ihnen zur Verfügung stehen.\nVerkaufsstand: Bitte beachten Sie\, dass S
 ie für Ihren Verkaufsstand Tische und Kleiderständer selbst mitbringen m
 üssen. Dadurch haben Sie die Möglichkeit\, Ihren Stand ganz nach Ihren W
 ünschen zu gestalten und Ihre Artikel bestmöglich zu präsentieren. Sie
  können vor ihr Auto ihren Stand aufbauen.\nPreise für Standplatz:\nNorm
 alpreis: 9 Euro pro laufendem Meter\nVorauszahlungsrabatt: 8 Euro pro lauf
 endem Meter (bei Vorauszahlung)\nPreise für Kleiderständer:\nNormalpreis
 : 3 Euro pro Stück\nVorauszahlungsrabatt: 2 Euro pro Stück (bei Vorausza
 hlung)\n \nWichtige Informationen:\nEs ist keine Reservierung erforderlic
 h! Sie können einfach am Flohmarkttag vorbeikommen und Ihren Stand aufbau
 en.\n \nBitte beachten Sie\, dass die angegebene Verkaufszeit unabhängig
  vom Auf- und Abbau ist. Der Aufbau beginnt samstags um 07:00 Uhr\, währe
 nd der Verkauf von 08:00 Uhr bis 16:00 Uhr stattfindet. Sonntags beginnen 
 Der Aufbau meistens um 10:00 Uhr und der Verkauf von 12:00 Uhr bis 18:00 U
 hr\, Der Abbau erfolgt nach dem Verkaufsende.\nWenn sie Vorausbezahlen hab
 en sie ein Sicheren und bestimmten Platz auf ihren gewünschten Flohmarkt.
 \nDie Standplatzvergabe erfolgt nach dem Prinzip "First-Come-First-Serve"\
 , daher empfehlen wir Ihnen\, frühzeitig zu erscheinen\, um sich Ihren be
 vorzugten Platz zu sichern außer man hat voraus reserviert und bezahlt.\n
 Das Reservierungsformular finden Sie online unter www.fma-flohmarktagentu
 r.de bei dem jeweiligen Termin. Nach der Benutzung und Abschicken des Re
 servierungsformulars erhalten Sie eine Bestätigungsmail.\nWir möchten Si
 e darauf hinweisen\, dass jede Reservierung\, die bei uns eingegangen und 
 im Voraus bezahlt wurde\, für uns verbindlich ist. Stornierungen werden b
 is spätestens 3 Tage vor Veranstaltungsbeginn entgegengenommen. Sollte es
  vorkommen\, dass eine Veranstaltung durch den Veranstalter abgesagt wird
 \, wird die Standgebühr auf jeden Fall zurückgezahlt. \nWir freuen uns 
 darauf\, Sie auf unserem Flohmarkt begrüßen zu dürfen und gemeinsam ein
 en erfolgreichen Tag voller Entdeckungen zu erleben!\nFür weitere Inform
 ationen oder Fragen können Sie uns gerne kontaktieren unter: 015752925606
 \nHerzliche Grüße\,\nFMA-Flohmarktagentur
LOCATION:Stadthalle Festplatz 1 71083 
SUMMARY:Zwei­tä­gi­ger Floh­markt in Herrenberg am Festplatz 
END:VEVENT
END:VCALENDAR
