BEGIN:VCALENDAR
VERSION:2.0
PRODID:icalendar-ruby
CALSCALE:GREGORIAN
BEGIN:VEVENT
DTSTAMP:20260424T001209Z
UID:2188230c-5a99-46b9-ace9-6c269e33c4c5
DTSTART:20260607T110000
DTEND:20260607T160000
DESCRIPTION:Sehr schöner Trödelmarkt mitten im Wohngebiet.\nÜberregional
 e Werbung durch Zeitungsanzeigen\, Internet\, Werbeschilder usw.\n \nSuch
 e Imbisswagen\, Eiswagen\, Olivenstand oder ähnliches!\n \nTrödel:\n3 M
 eter 24€\n4 Meter 26€\nTRÖDEL SONDERPREISE:\n5 Meter Trödel NUR 30
 € jeder weitere Meter 8€\n \nNeuware: \n1 Meter 10€ Bei größeren
  Ständen Rabatt möglich dazu bitte anrufen.\n \nAlle Plätze mit Auto a
 m Stand\nWc vorhanden\nJeder kann mitmachen\, einfach morgens ab 7 Uhr zur
  Platzvergabe vorbeikommen.\nEs bekommt jeder einen schönen Platz\, keine
 r wird nach Hause geschickt!\nKeine Eintrittsgebühren oder Parkgebühren 
 für Besucher!!!
LOCATION:Lärchenweg 4 29227 Altencelle
SUMMARY:Trödelmarkt Celle(Altencelle) Edeka Durasin TRÖDLER SONDERPREISE
END:VEVENT
END:VCALENDAR
