BEGIN:VCALENDAR
VERSION:2.0
PRODID:icalendar-ruby
CALSCALE:GREGORIAN
BEGIN:VEVENT
DTSTAMP:20260424T131006Z
UID:df520ef4-b050-4182-81c3-1bd127cfab50
DTSTART:20260718T070000
DTEND:20260718T170000
DESCRIPTION:Sehr schöner Trödelmarkt direkt an der Weser.\nÜberregionale
  Werbung durch Schilder\, Internet\, Zeitungswerbung\n \nTrödel:\nSamsta
 g:3 Meter inkl. 1 Kleiderständer 20€\n                4 Meter i
 nkl. 1 Kleiderständer 23€\n                5 Meter inkl. 1 Klei
 derständer 25€\njeder weitere Meter 5€\n \nSonntag: 3 Meter 24€ \
 n               4 Meter 26€\n               5 Meter 30
 €\njeder weitere Meter 8€\n \n \nNeuware: Samstag und Sonntag 12€ 
 pro Meter (bei größeren Ständen Rabatt möglich\, dazu bitte anrufen)\n
  \nEs ist keine Anmeldung erforderlich einfach ab 7 Uhr morgens vorbeikom
 men\, jeder bekommt einen Platz es wird keiner nach Haus geschickt.\nGesuc
 ht sind auch Essenstände jeglicher Art.
LOCATION:Linser Straße  37619 
SUMMARY:HIGHLIGHT Flohmarkt Bodenwerder Weserufer
END:VEVENT
END:VCALENDAR
