BEGIN:VCALENDAR
VERSION:2.0
PRODID:icalendar-ruby
CALSCALE:GREGORIAN
BEGIN:VEVENT
DTSTAMP:20260424T174124Z
UID:4e4d9050-2e01-4139-95e6-4b922e7eb684
DTSTART:20260906T110000
DTEND:20260906T180000
DESCRIPTION:!!! BESUCHERMAGNET !!!\nNeu in unserem Portfolio!\nEiner der st
 ärksten Märkte in Kleve.\nAuch hier bieten wir unseren Händlern einen s
 uper Standort.\n \nFür die Besucher haben wir ausreichend Parkmöglichke
 iten.\n \nUnsere Preise:\nlfdm. Trödel 11\,00€ + 5\,00 Grundgebühr (e
 inmalig)\nlfdm. Neuware 16\,00€ + 10\,00€ Grundgebühr (einmalig)\nDac
 hzuschlag 3\,00€\nEckzuschlag 10\,00€\nReinigungskaution: 10\,00€\n
  \n \nAnmeldungen unter: 015111646999
LOCATION:Hoffmannallee 53 47533 
SUMMARY:Trödelmarkt in Kleve EOC-Center
END:VEVENT
END:VCALENDAR
