BEGIN:VCALENDAR
VERSION:2.0
PRODID:icalendar-ruby
CALSCALE:GREGORIAN
BEGIN:VEVENT
DTSTAMP:20260425T124709Z
UID:836360aa-7ab6-443a-8db4-cc0d37fdfa03
DTSTART:20261202T060000
DTEND:20261202T160000
DESCRIPTION:Neu: Ab sofort findet jeden Mittwoch (außer an Feiertagen) ein
  Flohmarkt auf dem Gelände des Globus Baumarkts in Wörth-Maximiliansau s
 tatt.\nDie Platzvergabe erfolgt zwischen 6:00 und 16:00 Uhr. Der Aufbau is
 t unmittelbar nach der Platzzuweisung möglich.Die Standgebühr beträgt 2
 0 Euro für 4 Meter Trödelstand. Das Auto kann direkt am Stand abgestellt
  werden. Neuwaren sind nur auf Anfrage möglich. 
LOCATION:Maximilianstraße 8 76744 
SUMMARY:Neuer Mittwochsflohmarkt in Wörth - Globus Baumarkt
END:VEVENT
END:VCALENDAR
