BEGIN:VCALENDAR
VERSION:2.0
PRODID:icalendar-ruby
CALSCALE:GREGORIAN
BEGIN:VEVENT
DTSTAMP:20260425T131118Z
UID:1afef886-911b-46c5-b210-dcd1184f0b99
DTSTART:20261209T060000
DTEND:20261209T160000
DESCRIPTION:Neu: Ab sofort findet jeden Mittwoch (außer an Feiertagen) ein
  Flohmarkt auf dem Gelände des Globus Baumarkts in Wörth-Maximiliansau s
 tatt.\nDie Platzvergabe erfolgt zwischen 6:00 und 16:00 Uhr. Der Aufbau is
 t unmittelbar nach der Platzzuweisung möglich.Die Standgebühr beträgt 2
 0 Euro für 4 Meter Trödelstand. Das Auto kann direkt am Stand abgestellt
  werden. Neuwaren sind nur auf Anfrage möglich. 
LOCATION:Maximilianstraße 8 76744 
SUMMARY:Neuer Mittwochsflohmarkt in Wörth - Globus Baumarkt
END:VEVENT
END:VCALENDAR
