BEGIN:VCALENDAR
VERSION:2.0
PRODID:icalendar-ruby
CALSCALE:GREGORIAN
BEGIN:VEVENT
DTSTAMP:20260422T034913Z
UID:8ab1b1e1-7273-469d-b063-78d3235287b5
DTSTART:20260530T060000
DTEND:20260530T150000
DESCRIPTION:Flohmarkt in Lembruch ( Schützenplatz )\n06:00 bis 15:00 Uhr\n
 Platzvergabe ab 6 Uhr am Veranstaltungtag \nAbbau nicht vor 14 Uhr\nStand
 geld Trödel: pro lfm 6 € \nNeuware nur mit Voranmeldung ! : pro lfm 8 
 €\nAb 3 Meter Auto am Stand \nDer Standplatz ist sauber und ordentlich 
 zu verlassen !\nDie Standgelder sind am Veranstaltungstag früh mitzubring
 en ! \nInfo und Anmeldung unter 05447 9211544 oder 0160 4398177 
LOCATION:Am Sportplatz 25 49459 
SUMMARY:Flohmarkt in Lembruch ( Schützenplatz )
END:VEVENT
END:VCALENDAR
