BEGIN:VCALENDAR
VERSION:2.0
PRODID:icalendar-ruby
CALSCALE:GREGORIAN
BEGIN:VEVENT
DTSTAMP:20260424T014018Z
UID:7660797c-20b6-48b5-80dc-611a22019e98
DTSTART:20260718T060000
DTEND:20260718T160000
DESCRIPTION:Axels Flohmarkt am Bahnhof  -  Lienzinger Straße 1 - Parkpla
 tz am Lienzinger Tor - Mühlacker\nUnter neuer Regie in familiärer Atmosp
 häre.\nJeder kann mitmachen.\nWir freuen uns auf Ihren Besuch.\nDer Flohm
 arkt findet jeweils von 8:00 Uhr bis 16:00 Uhr statt. \nAnfahrt und Aufba
 u ab 6:00 Uhr.\n \nTeilnahme generell ohne Anmeldung und Reservierung. Ei
 nfach kommen und mitmachen.\n \nStandgebühren: \n1 Meter ohne Auto - 10
  Euro\n2 Meter ohne Auto - 18 Euro (auch mit kleinem Auto möglich)\n3 Met
 er mit Auto am Stand - 25 Euro \n4 Meter mit Auto am Stand - 32 Euro\n5 M
 eter mit Auto am Stand  - 35 Euro\nNeuware - 12 Euro der laufende Meter\n
 Bonussystem (5 x dabei - halber Preis)\nImbiss und WC sind vorhanden.\nHal
 ten Sie sich bitte an die Anweisungen des Ordners und Einweisers.\n \nInf
 ormationen erhaltet ihr unter 0163 - 6851387.\n 
LOCATION:Lienzinger Straße 1 75417 
SUMMARY:Axel's Flohmarkt
END:VEVENT
END:VCALENDAR
