BEGIN:VCALENDAR
VERSION:2.0
PRODID:icalendar-ruby
CALSCALE:GREGORIAN
BEGIN:VEVENT
DTSTAMP:20260424T064057Z
UID:594512c3-a0f9-463f-aa18-7193f58c78a7
DTSTART:20261115T130000
DTEND:20261115T180000
DESCRIPTION:Der Flohmarkt mit besonderem Flair in der KulturFabrik Löseke:
  Stöbern mit Musik und gemütlichen Disco-Vibes – komplett indoor und d
 amit wetterunabhängig. Entdeckt Vintage-Mode\, Bücher\, Deko\, Selbstgem
 achtes und besondere Fundstücke.\nDie Theken sind geöffnet\; dazu gibt e
 s süße und herzhafte Speisen.Kommt vorbei\, bringt Freund*innen und Fami
 lie mit – Eintritt frei\n \nInfos für Händler*innen:\nkeine Anmeldung
  nötig – es gibt ausreichend PlatzStandgebühr 10€ pro meter (max. 3 
 Meter pro Stand\, dann für 25€)Bitte Tisch selbst mitgringen
LOCATION:Langer Garten 1 31137 
SUMMARY:Disco Flohmarkt 
END:VEVENT
END:VCALENDAR
