BEGIN:VCALENDAR
VERSION:2.0
PRODID:icalendar-ruby
CALSCALE:GREGORIAN
BEGIN:VEVENT
DTSTAMP:20260424T064105Z
UID:009b5257-8102-4be8-ba73-165bfb7c45a5
DTSTART:20261220T130000
DTEND:20261220T180000
DESCRIPTION:Der Flohmarkt mit besonderem Flair in der KulturFabrik Löseke:
  Stöbern mit Musik und gemütlichen Disco-Vibes – komplett indoor und d
 amit wetterunabhängig. Entdeckt Vintage-Mode\, Bücher\, Deko\, Selbstgem
 achtes und besondere Fundstücke.\nDie Theken sind geöffnet\; dazu gibt e
 s süße und herzhafte Speisen.Kommt vorbei\, bringt Freund*innen und Fami
 lie mit – Eintritt frei\n \nInfos für Händler*innen:\nkeine Anmeldung
  nötig – es gibt ausreichend PlatzStandgebühr 10€ pro meter (max. 3 
 Meter pro Stand\, dann für 25€)Bitte Tisch selbst mitgringen
LOCATION:Langer Garten 1 31137 
SUMMARY:Disco Flohmarkt 
END:VEVENT
END:VCALENDAR
