BEGIN:VCALENDAR
VERSION:2.0
PRODID:icalendar-ruby
CALSCALE:GREGORIAN
BEGIN:VEVENT
DTSTAMP:20260421T171944Z
UID:88204dcf-973a-4995-a7e5-cb9c68cc37af
DTSTART:20261129T110000
DTEND:20261129T180000
DESCRIPTION:Der beliebte Trödelmarkt an der Metro Ludwigshafen bietet idea
 le Bedingungen für Trödlerinnen und Trödler aus der Region. Neuwaren si
 nd an speziellen Terminen ausdrücklich zugelassen!\nÖffnungszeit11:00 bi
 s 18:00 Uhr\nParkenauf dem Globusgelände direkt neben der Metro\nGastrono
 mieFür das leibliche Wohl ist in ausreichendem Maße gesorgt.\n \nAnfahr
 tMetro Ludwigshafen-OggersheimOderstraße 267071 Ludwigshafen am Rhein\nBu
 s-Linie: 72\n \nInfos für VerkäuferDie Zufahrt auf das Gelände ist ab
  8:00 Uhr möglich. Der Aufbau beginnt ab 9:00 Uhr\, der Verkauf starte
 t um 11:00 Uhr.\n \nDer Verkauf von Neuwaren ist ausdrücklich erlaubt!\
 nOnline buchen können Sie bis einen Tag vor der Veranstaltung um 12 Uhr.
  \nPlatzreservierung vor Ort sonntags ab 6 Uhr.\n \nPKW/Transporter am 
 StandEine Garantie für einen normalen PKW am Stand gibt es ab 4 Metern St
 andlänge. Bei Kombis oder Transporten werden mindestens 5 Meter benötigt
 . Bei ausreichendem Platz ist das Abstellen eines PKW auch schon ab 3 Mete
 rn möglich. Alternativ stehen Händlerparkplätze zur Verfügung. 
LOCATION:Oderstraße 2 67071 Oggersheim
SUMMARY:Flohmarkt Ludwigshafen METRO (mit Neuware)
END:VEVENT
END:VCALENDAR
