BEGIN:VCALENDAR
VERSION:2.0
PRODID:icalendar-ruby
CALSCALE:GREGORIAN
BEGIN:VEVENT
DTSTAMP:20260420T122032Z
UID:7d18478b-3927-4ba1-afb4-378dc3d9a25a
DTSTART:20260508T100000
DTEND:20260508T200000
DESCRIPTION:Flohmarkt an der Fischauktionshalle – Hafengeburtstag 2026 \
 nWenn Hamburg Geburtstag feiert\, wird am Hafen nicht gekleckert\, sondern
  gekramt!Direkt bei der Fischauktionshalle wartet beim Hafengeburtstag 20
 26 ein ganz besonderer Flohmarkt auf euch.\nZwischen Möwengeschrei\, Schi
 ffshörnern und Elbbrise könnt ihr nach echten Schätzen stöbern: Vintag
 e-Lieblinge\, maritime Fundstücke\, Kleidung\, Deko\, Platten\, Kurioses 
 und alles\, was Flohmärkte so unwiderstehlich macht. Dazu Hafenatmosphär
 e pur\, kalte Drinks in Reichweite und das bunte Treiben eines der größt
 en Stadtfeste Europas direkt vor der Nase.\nEgal ob ihr gezielt sucht oder
  euch einfach treiben lasst – dieser Flohmarkt ist der perfekte Zwischen
 stopp zwischen Schlepperballett\, Konzerten und Hafenrundgang.\n🛍️ St
 öbern\, feilschen\, fündig werden🌊 Mit Blick auf die Elbe🎉 Mitten 
 im Hafengeburtstag\nKommt vorbei\, bringt Zeit mit – und vielleicht eine
  Tasche mehr für all die schönen Dinge\, die ihr garantiert nicht geplan
 t hattet zu kaufen.\nStandplatz-Anmeldungen via www.hafengeburtstag-flohm
 arkt.de
LOCATION:Große Elbstraße 9 22767 Altona
SUMMARY:Flohmarkt an der Fischauktionshalle - Hafengeburtstag 2026
END:VEVENT
END:VCALENDAR
