BEGIN:VCALENDAR
VERSION:2.0
PRODID:icalendar-ruby
CALSCALE:GREGORIAN
BEGIN:VEVENT
DTSTAMP:20260421T152938Z
UID:bd9056a8-31eb-4725-ac48-a38ccbe7cc95
DTSTART:20260501T080000
DTEND:20260501T170000
DESCRIPTION:Hallo liebe Floh-&amp\;Trödelgemeinde\, \n \nam 01.05.2026 f
 indet unser beliebter Flohmarkt im Freizeitzentrum \,\,Viellenue sur lot" 
 in Neustadt bei Coburg statt. Bitte bedenkt das dieser nicht überdacht i
 st. Wir haben viele schöne Attraktionen vor Ort für groß und klein! (H
 üpfburgen\, Kindereisenbahn\, Kinderschminken\, Kinderdisco...\nWann?: Am
  01.05.2026 \nWo?: Am Moos 28\, 96465 Neustadt b. Coburg\nPreis?: Auto+ 5
  M    25\,00 € (Anmeldung mit Vorkasse) \nHändleraufbau ab 7:00 Uhr.
 \nAnmeldung erfolgt über folgende Telefonnummer: 0171/7583915 per Anruf o
 der WhatsApp \n \nFür's leibliche Wohl ist bestens gesorgt! \nEuer Ber
 nhardt's Flohmärkte-Team 
LOCATION:Am Moos 28 96465 Ketschenbach
SUMMARY:Bernhardt‘s Flohmärkte 
END:VEVENT
END:VCALENDAR
