BEGIN:VCALENDAR
VERSION:2.0
PRODID:icalendar-ruby
CALSCALE:GREGORIAN
BEGIN:VEVENT
DTSTAMP:20260421T084536Z
UID:b6655689-3d6b-44d3-9baf-5c97ac83c2fd
DTSTART:20260514T080000
DTEND:20260514T180000
DESCRIPTION:Motorfestival Helenesee Antik und Trödelmarkt mit Händlermeil
 e\,vom 14.5.26-17.5.26.Gesucht werden Händler aus allen Kategorien\,\nBlu
 men\,Lebensmittel\,Textilien\,Spielzeug\,KFZ Teile und Zubehör.Standgebü
 hr pro laufenden Meter Verkaufsfläche 4€.Infos und Anmeldung unter 0171
 5222253.
LOCATION:Am Helenesee  15236 Lossow
SUMMARY:Motorfestival Helenesee
END:VEVENT
END:VCALENDAR
