BEGIN:VCALENDAR
VERSION:2.0
PRODID:icalendar-ruby
CALSCALE:GREGORIAN
BEGIN:VEVENT
DTSTAMP:20260420T130925Z
UID:95ed9e9a-6367-41ca-9f21-8a023e865f37
DTSTART:20260524T110000
DTEND:20260524T180000
DESCRIPTION: \ngroßer Trödelmarkt bei Hornbach in Kamen\n \n \nTrödel
  10 EURO lfd. Meter\nNeuware 15 EURO lfd. Meter \nGrundgebühr 5 EURO\nPl
 atzvergabe am Samstag zwischen 13 und 14 Uhr gegen Vorkasse  \nKontakt:\
 n01713658844
LOCATION:Zollpost 6 59174 
SUMMARY:Hornbach Kamen
END:VEVENT
END:VCALENDAR
