BEGIN:VCALENDAR
VERSION:2.0
PRODID:icalendar-ruby
CALSCALE:GREGORIAN
BEGIN:VEVENT
DTSTAMP:20260420T122045Z
UID:56bb44e1-f5b3-4a46-994f-b9c612821fe7
DTSTART:20260726T110000
DTEND:20260726T180000
DESCRIPTION: \ngroßer Trödelmarkt bei Hornbach in Kamen\n \n \nTrödel
  10 EURO lfd. Meter\nNeuware 15 EURO lfd. Meter \nGrundgebühr 5 EURO\nPl
 atzvergabe am Samstag zwischen 13 und 14 Uhr gegen Vorkasse  \nKontakt:\
 n01713658844
LOCATION:Zollpost 6 59174 
SUMMARY:Hornbach Kamen
END:VEVENT
END:VCALENDAR
