BEGIN:VCALENDAR
VERSION:2.0
PRODID:icalendar-ruby
CALSCALE:GREGORIAN
BEGIN:VEVENT
DTSTAMP:20260424T115355Z
UID:76208df3-44f5-4520-9610-e2886ad0d7d8
DTSTART:20260927T083000
DTEND:20260927T160000
DESCRIPTION:Toller Markt unter dem Viadukt der Hochbahn auf dem Gelände de
 s Isemarktes!\nAlle Infos unter www.marktlust.de - wir sehen uns!
LOCATION:Isestraße  20 Eimsbüttel
SUMMARY:Flohmarkt Isestrasse
END:VEVENT
END:VCALENDAR
