BEGIN:VCALENDAR
VERSION:2.0
PRODID:icalendar-ruby
CALSCALE:GREGORIAN
BEGIN:VEVENT
DTSTAMP:20260426T021914Z
UID:2746a781-76b4-4f20-85a3-d9149a7818ea
DTSTART:20260628T090000
DTEND:20260628T160000
DESCRIPTION:Lebendiger Flohmarkt auf der Hoheluftchaussee zwischen Lehmweg/
 Bismarkstraße und Eppendorfer Weg. Rabatt für Anwohnende mit PLZ 20253 u
 nd 20251. Standplätze können direkt online unter www.marktlust.de gebuch
 t werden!
LOCATION:Hoheluftchaussee  20253 Eimsbüttel
SUMMARY:Flohmarkt Hoheluftchaussee
END:VEVENT
END:VCALENDAR
