BEGIN:VCALENDAR
VERSION:2.0
PRODID:icalendar-ruby
CALSCALE:GREGORIAN
BEGIN:VEVENT
DTSTAMP:20260424T103035Z
UID:e2bb8910-cfa9-4302-997d-fd9b5e7e61b5
DTSTART:20260913T083000
DTEND:20260913T160000
DESCRIPTION:Toller Flohmarkt - sei dabei!\nAlle Details und Stanbuchungen u
 nter www.marktlust.de - wir sehen uns!
LOCATION:Lehmweg Lehmweg  20251 Hamburg-Nord
SUMMARY:Flohmarkt Lehmweg
END:VEVENT
END:VCALENDAR
